BEGIN:VCALENDAR
VERSION:2.0
PRODID:-//wp-events-plugin.com//7.2.3.1//EN
TZID:Europe/Paris
X-WR-TIMEZONE:Europe/Paris
BEGIN:VEVENT
UID:88@cdg84.fr
DTSTART;TZID=Europe/Paris:20180619T090000
DTEND;TZID=Europe/Paris:20180619T120000
DTSTAMP:20180411T134858Z
URL:https://www.cdg84.fr/agenda/petit-dejeuner-reseau-dgs-dga-drh-intercom
 munalites-communes-de-plus-de-10-000-habitants/
SUMMARY:Petit Déjeuner "Réseau des DGS\, DGA\, DRH des intercommunalités
  et des communes de plus de 10 000 habitants"
DESCRIPTION:Le 19 juin 2018 à partir de 9h00 au CDG 84\, 80 rue Marcel Dem
 onque à Avignon.\nBulletin de participation à retourner à l'adresse dir
 ectiongenerale@cdg84.fr avant le 12 juin.
ATTACH;FMTTYPE=image/jpeg:https://www.cdg84.fr/wp-content/uploads/2017/11/
 connections-2099068_1280.png
END:VEVENT
BEGIN:VTIMEZONE
TZID:Europe/Paris
X-LIC-LOCATION:Europe/Paris
BEGIN:DAYLIGHT
DTSTART:20180325T030000
TZOFFSETFROM:+0100
TZOFFSETTO:+0200
TZNAME:CEST
END:DAYLIGHT
END:VTIMEZONE
END:VCALENDAR