BEGIN:VCALENDAR
VERSION:2.0
PRODID:-//wp-events-plugin.com//7.2.3.1//EN
TZID:Europe/Paris
X-WR-TIMEZONE:Europe/Paris
BEGIN:VEVENT
UID:260@cdg84.fr
DTSTART;TZID=Europe/Paris;VALUE=DATE:20231205
DTEND;TZID=Europe/Paris;VALUE=DATE:20231206
DTSTAMP:20231120T110208Z
URL:https://www.cdg84.fr/agenda/reunion-mission-locale/
SUMMARY:Réunion Mission Locale
DESCRIPTION:
END:VEVENT
BEGIN:VTIMEZONE
TZID:Europe/Paris
X-LIC-LOCATION:Europe/Paris
BEGIN:STANDARD
DTSTART:20231029T020000
TZOFFSETFROM:+0200
TZOFFSETTO:+0100
TZNAME:CET
END:STANDARD
END:VTIMEZONE
END:VCALENDAR